BEGIN:VCALENDAR
VERSION:2.0
PRODID:-//www.nplspa.org//NONSGML kigkonsult.se iCalcreator 2.30.10//
CALSCALE:GREGORIAN
METHOD:PUBLISH
UID:354544a4-1c60-40cc-8143-82fd408d0708
X-WR-CALDESC:North Penn Legal Services (NPLS) will hold a free Child Custod
 y Law Clinic at the Susquehanna County Public Library on June 20\, 2024 at
  9:30 a.m. \n\nIf you are interested in learning your legal rights to the 
 custody of your minor children\, this is a great opportunity for you. Our 
 experienced lawyers will present on some of the most common issues that ar
 ise in child custody matters as well as the court procedures that are invo
 lved. If this is of interest to you\, we would be happy if you could join 
 us. There will be an opportunity for questions during and after the clinic
 .\n\nRSVP by emailing the NPLS Towanda Office at pdavis@nplspa.org. Please
  reference the Child Custody Law Clinic in your response. \n\nFor more inf
 ormation call North Penn Legal Services at 877-515-7732.
X-WR-RELCALID:538a8fe4e7d25fc33071646842a911f3
X-WR-TIMEZONE:America/New_York
BEGIN:VTIMEZONE
TZID:America/New_York
BEGIN:STANDARD
TZNAME:EST
DTSTART:20231105T020000
TZOFFSETFROM:-0400
TZOFFSETTO:-0500
RDATE:20241103T020000
RDATE:20251102T020000
END:STANDARD
BEGIN:DAYLIGHT
TZNAME:EDT
DTSTART:20240310T020000
TZOFFSETFROM:-0500
TZOFFSETTO:-0400
RDATE:20250309T020000
END:DAYLIGHT
END:VTIMEZONE
BEGIN:VEVENT
UID:2900f324-6f3f-40d0-9911-83bb788690dc
DTSTAMP:20260420T203436Z
DESCRIPTION:North Penn Legal Services (NPLS) will hold a free Child Custody
  Law Clinic at the Susquehanna County Public Library on June 20\, 2024 at 
 9:30 a.m. \n\nIf you are interested in learning your legal rights to the c
 ustody of your minor children\, this is a great opportunity for you. Our e
 xperienced lawyers will present on some of the most common issues that ari
 se in child custody matters as well as the court procedures that are invol
 ved. If this is of interest to you\, we would be happy if you could join u
 s. There will be an opportunity for questions during and after the clinic.
 \n\nRSVP by emailing the NPLS Towanda Office at pdavis@nplspa.org. Please 
 reference the Child Custody Law Clinic in your response. \n\nFor more info
 rmation call North Penn Legal Services at 877-515-7732.
DTSTART;TZID=America/New_York:20240620T093000
DTEND;TZID=America/New_York:20240620T113000
LOCATION:Susquehanna County Public Library\, 458 High School Rd.\, Montrose
 \, PA 18801 US
SUMMARY:NPLS at the Susquehanna County Public Library: Child Custody Law Cl
 inic
END:VEVENT
END:VCALENDAR
