BEGIN:VCALENDAR
VERSION:2.0
PRODID:-//www.nplspa.org//NONSGML kigkonsult.se iCalcreator 2.30.10//
CALSCALE:GREGORIAN
METHOD:PUBLISH
UID:94d3cda2-8217-4576-b370-f93931561885
X-WR-CALDESC:Is your criminal record preventing you from obtaining employme
 nt or housing? Are you eligible to expunge your criminal record or have it
  sealed or clean slated under Pennsylvania law?\n\nFind out by attending t
 he NPLS Expungement and Clean Slate Clinic.\n\nYou must call in advance to
  reserve a spot in the clinic. The intake number is 877-953-4250\; ask to 
 participate in the Sunbury Expungement Clinic. The clinic is open to all e
 ligible for services from North Penn Legal Services.
X-WR-RELCALID:d28df46c76bc02d5df25910d06e6d6e7
X-WR-TIMEZONE:America/New_York
BEGIN:VTIMEZONE
TZID:America/New_York
BEGIN:STANDARD
TZNAME:EST
DTSTART:20231105T020000
TZOFFSETFROM:-0400
TZOFFSETTO:-0500
RDATE:20241103T020000
RDATE:20251102T020000
END:STANDARD
BEGIN:DAYLIGHT
TZNAME:EDT
DTSTART:20240310T020000
TZOFFSETFROM:-0500
TZOFFSETTO:-0400
RDATE:20250309T020000
END:DAYLIGHT
END:VTIMEZONE
BEGIN:VEVENT
UID:1be8c49b-8c06-4b48-aebc-e029c1196c94
DTSTAMP:20260420T203604Z
DESCRIPTION:Is your criminal record preventing you from obtaining employmen
 t or housing? Are you eligible to expunge your criminal record or have it 
 sealed or clean slated under Pennsylvania law?\n\nFind out by attending th
 e NPLS Expungement and Clean Slate Clinic.\n\nYou must call in advance to 
 reserve a spot in the clinic. The intake number is 877-953-4250\; ask to p
 articipate in the Sunbury Expungement Clinic. The clinic is open to all el
 igible for services from North Penn Legal Services.
DTSTART;TZID=America/New_York:20240626T120000
DTEND;TZID=America/New_York:20240626T140000
LOCATION:Degenstein Community Library\, 40 S. Fifth Street\, Sunbury\, PA 1
 7801 US
SUMMARY:NPLS at Degenstein Community Library: Expungement and Clean Slate C
 linic
END:VEVENT
END:VCALENDAR
