BEGIN:VCALENDAR
VERSION:2.0
PRODID:-//www.nplspa.org//NONSGML kigkonsult.se iCalcreator 2.30.10//
CALSCALE:GREGORIAN
METHOD:PUBLISH
UID:e51a59d9-e2d0-4352-b6f2-39768ce64217
X-WR-CALDESC:The NPLS Legal Education Series in Williamsport will be held t
 he first Monday of the month starting January 2024\n\nThis month's topic: 
 Name Change
X-WR-RELCALID:a665621f19b877e728025a16e9d16dd1
X-WR-TIMEZONE:America/New_York
BEGIN:VTIMEZONE
TZID:America/New_York
BEGIN:STANDARD
TZNAME:EST
DTSTART:20231105T020000
TZOFFSETFROM:-0400
TZOFFSETTO:-0500
RDATE:20241103T020000
RDATE:20251102T020000
END:STANDARD
BEGIN:DAYLIGHT
TZNAME:EDT
DTSTART:20240310T020000
TZOFFSETFROM:-0500
TZOFFSETTO:-0400
RDATE:20250309T020000
END:DAYLIGHT
END:VTIMEZONE
BEGIN:VEVENT
UID:8aabfd3b-991d-47ac-a855-55dc02b81c0b
DTSTAMP:20260420T220922Z
DESCRIPTION:The NPLS Legal Education Series in Williamsport will be held th
 e first Monday of the month starting January 2024\n\nThis month's topic: N
 ame Change
DTSTART;TZID=America/New_York:20240701T133000
DTEND;TZID=America/New_York:20240701T143000
LOCATION:Lycoming County Courthouse Law Library\, 48 W 3rd St.\, Williamspo
 rt\, PA 17701 US
SUMMARY:NPLS Legal Education Series at Lycoming Law Library: Name Change
END:VEVENT
END:VCALENDAR
