BEGIN:VCALENDAR
VERSION:2.0
PRODID:-//www.nplspa.org//NONSGML kigkonsult.se iCalcreator 2.30.10//
CALSCALE:GREGORIAN
METHOD:PUBLISH
UID:55f80ca2-e783-4801-ba53-e2bb210e4db7
X-WR-CALDESC:NPLS outreach event.
X-WR-RELCALID:c3c9e6ab98ef049247311d6f5242c75a
X-WR-TIMEZONE:America/New_York
BEGIN:VTIMEZONE
TZID:America/New_York
BEGIN:STANDARD
TZNAME:EST
DTSTART:20231105T020000
TZOFFSETFROM:-0400
TZOFFSETTO:-0500
RDATE:20241103T020000
RDATE:20251102T020000
END:STANDARD
BEGIN:DAYLIGHT
TZNAME:EDT
DTSTART:20240310T020000
TZOFFSETFROM:-0500
TZOFFSETTO:-0400
RDATE:20250309T020000
END:DAYLIGHT
END:VTIMEZONE
BEGIN:VEVENT
UID:8b68a374-2bda-4bb4-82c6-3e386610c229
DTSTAMP:20260420T220417Z
DESCRIPTION:NPLS outreach event.
DTSTART;TZID=America/New_York:20240719T060000
DTEND;TZID=America/New_York:20240719T060001
LOCATION:
SUMMARY:NPLS at the Bureau of Juvenile Justice Services
END:VEVENT
END:VCALENDAR
