BEGIN:VCALENDAR
VERSION:2.0
PRODID:-//www.nplspa.org//NONSGML kigkonsult.se iCalcreator 2.30.10//
CALSCALE:GREGORIAN
METHOD:PUBLISH
UID:3a23b90a-1cb5-4ee9-9884-4d0fdcdebfb7
X-WR-CALDESC:NPLS presenting information about services.
X-WR-RELCALID:7e5b0209db1194eb2401243681477c13
X-WR-TIMEZONE:America/New_York
BEGIN:VTIMEZONE
TZID:America/New_York
BEGIN:STANDARD
TZNAME:EST
DTSTART:20231105T020000
TZOFFSETFROM:-0400
TZOFFSETTO:-0500
RDATE:20241103T020000
RDATE:20251102T020000
END:STANDARD
BEGIN:DAYLIGHT
TZNAME:EDT
DTSTART:20240310T020000
TZOFFSETFROM:-0500
TZOFFSETTO:-0400
RDATE:20250309T020000
RDATE:20260308T020000
END:DAYLIGHT
END:VTIMEZONE
BEGIN:VEVENT
UID:1fb53a6d-676d-4daa-8c38-866f0cc810c7
DTSTAMP:20260421T010954Z
DESCRIPTION:NPLS presenting information about services.
DTSTART;TZID=America/New_York:20240918T060000
DTEND;TZID=America/New_York:20240918T060001
LOCATION:
SUMMARY:NPLS at SAM\, Inc.
END:VEVENT
END:VCALENDAR
