BEGIN:VCALENDAR
VERSION:2.0
PRODID:-//www.nplspa.org//NONSGML kigkonsult.se iCalcreator 2.30.10//
CALSCALE:GREGORIAN
METHOD:PUBLISH
UID:93339034-573f-48ec-b0f6-2e11279419ab
X-WR-CALDESC:NPLS presenting information at this Senior Expo.
X-WR-RELCALID:639fbe4ffbcb5770579e235511a3542b
X-WR-TIMEZONE:America/New_York
BEGIN:VTIMEZONE
TZID:America/New_York
BEGIN:STANDARD
TZNAME:EST
DTSTART:20231105T020000
TZOFFSETFROM:-0400
TZOFFSETTO:-0500
RDATE:20241103T020000
RDATE:20251102T020000
END:STANDARD
BEGIN:DAYLIGHT
TZNAME:EDT
DTSTART:20240310T020000
TZOFFSETFROM:-0500
TZOFFSETTO:-0400
RDATE:20250309T020000
RDATE:20260308T020000
END:DAYLIGHT
END:VTIMEZONE
BEGIN:VEVENT
UID:b80967f1-af3b-4921-8a63-003cbf86796e
DTSTAMP:20260421T011301Z
DESCRIPTION:NPLS presenting information at this Senior Expo.
DTSTART;TZID=America/New_York:20240920T100000
DTEND;TZID=America/New_York:20240920T130000
LOCATION:NCC - Pocono Campus\, Pocono Hall (in Gym)\, 2411 Rt. 715\, Tanner
 sville\, PA 18372 US
SUMMARY:NPLS at the Monroe County Senior Expo
END:VEVENT
END:VCALENDAR
