BEGIN:VCALENDAR
VERSION:2.0
PRODID:-//www.nplspa.org//NONSGML kigkonsult.se iCalcreator 2.30.10//
CALSCALE:GREGORIAN
METHOD:PUBLISH
UID:ace73cf2-d6de-44ae-bd24-96b7e77c7f77
X-WR-CALDESC:Join us September 22\, 2024 for the North Penn Legal Services 
 Designer Purse Bingo. 16 Regular games and door prizes entry are included 
 with your $30 admission. Specials\, raffles\, food and drink will be avail
 able for additional purchase. \n\n100% of event proceeds will go back to s
 upport North Penn Legal Services.\n\nWhere: Dunmore Holiday Inn\, 200 Tigu
 e Street\, Dunmore\, PA 18512\n\nWhen: Sunday\, September 22\, 2024 from 3
 :00 - 6:30 PM (Doors open at 1:00 PM)\n\nWe hope you can participate in th
 is fun event to help raise funds and awareness of NPLS in the community.
X-WR-RELCALID:46b2e210b92380b179ab1b5132b9d62d
X-WR-TIMEZONE:America/New_York
BEGIN:VTIMEZONE
TZID:America/New_York
BEGIN:STANDARD
TZNAME:EST
DTSTART:20231105T020000
TZOFFSETFROM:-0400
TZOFFSETTO:-0500
RDATE:20241103T020000
RDATE:20251102T020000
END:STANDARD
BEGIN:DAYLIGHT
TZNAME:EDT
DTSTART:20240310T020000
TZOFFSETFROM:-0500
TZOFFSETTO:-0400
RDATE:20250309T020000
RDATE:20260308T020000
END:DAYLIGHT
END:VTIMEZONE
BEGIN:VEVENT
UID:cc3b1b6c-01fc-44e7-94c1-528ee3bef206
DTSTAMP:20260421T010104Z
DESCRIPTION:Join us September 22\, 2024 for the North Penn Legal Services D
 esigner Purse Bingo. 16 Regular games and door prizes entry are included w
 ith your $30 admission. Specials\, raffles\, food and drink will be availa
 ble for additional purchase. \n\n100% of event proceeds will go back to su
 pport North Penn Legal Services.\n\nWhere: Dunmore Holiday Inn\, 200 Tigue
  Street\, Dunmore\, PA 18512\n\nWhen: Sunday\, September 22\, 2024 from 3:
 00 - 6:30 PM (Doors open at 1:00 PM)\n\nWe hope you can participate in thi
 s fun event to help raise funds and awareness of NPLS in the community.
DTSTART;TZID=America/New_York:20240922T150000
DTEND;TZID=America/New_York:20240922T183000
LOCATION:Holiday Inn Dunmore\, 200 Tigue Street\, Dunmore\, PA 18512 US
SUMMARY:NPLS Designer Purse Bingo Fundraiser
END:VEVENT
END:VCALENDAR
