BEGIN:VCALENDAR
VERSION:2.0
PRODID:-//www.nplspa.org//NONSGML kigkonsult.se iCalcreator 2.30.10//
CALSCALE:GREGORIAN
METHOD:PUBLISH
UID:4ea5cd85-bd67-46ae-bfcc-f2853835e04d
X-WR-CALDESC:NPLS providing information at the Fair.
X-WR-RELCALID:c14134efca697fadaa89b1249116f822
X-WR-TIMEZONE:America/New_York
BEGIN:VTIMEZONE
TZID:America/New_York
BEGIN:STANDARD
TZNAME:EST
DTSTART:20231105T020000
TZOFFSETFROM:-0400
TZOFFSETTO:-0500
RDATE:20241103T020000
RDATE:20251102T020000
END:STANDARD
BEGIN:DAYLIGHT
TZNAME:EDT
DTSTART:20240310T020000
TZOFFSETFROM:-0500
TZOFFSETTO:-0400
RDATE:20250309T020000
RDATE:20260308T020000
END:DAYLIGHT
END:VTIMEZONE
BEGIN:VEVENT
UID:bfd8fec4-f702-43fb-b8b5-5c576d2f2739
DTSTAMP:20260421T010053Z
DESCRIPTION:NPLS providing information at the Fair.
DTSTART;TZID=America/New_York:20240926T100000
DTEND;TZID=America/New_York:20240926T130000
LOCATION:Charles Chrin Community Center\, 4100 Green Pond Road\, Easton\, P
 A 18045 US
SUMMARY:NPLS at Northampton County Senior Fair
END:VEVENT
END:VCALENDAR
