BEGIN:VCALENDAR
VERSION:2.0
PRODID:-//www.nplspa.org//NONSGML kigkonsult.se iCalcreator 2.30.10//
CALSCALE:GREGORIAN
METHOD:PUBLISH
UID:d946043d-ce0c-4973-91e8-6bd90be60f7a
X-WR-CALDESC:NPLS will be providing information at the 2024 Luzerne County 
 Senior Expo\, being held at the Friedman JCC.
X-WR-RELCALID:4b4e9bfd75901a68ac53efcafc06def8
X-WR-TIMEZONE:America/New_York
BEGIN:VTIMEZONE
TZID:America/New_York
BEGIN:STANDARD
TZNAME:EST
DTSTART:20231105T020000
TZOFFSETFROM:-0400
TZOFFSETTO:-0500
RDATE:20241103T020000
RDATE:20251102T020000
END:STANDARD
BEGIN:DAYLIGHT
TZNAME:EDT
DTSTART:20240310T020000
TZOFFSETFROM:-0500
TZOFFSETTO:-0400
RDATE:20250309T020000
RDATE:20260308T020000
END:DAYLIGHT
END:VTIMEZONE
BEGIN:VEVENT
UID:f3c380d0-2c20-4580-b8af-03423458c9ef
DTSTAMP:20260421T010723Z
DESCRIPTION:NPLS will be providing information at the 2024 Luzerne County S
 enior Expo\, being held at the Friedman JCC.
DTSTART;TZID=America/New_York:20240926T100000
DTEND;TZID=America/New_York:20240926T130000
LOCATION:Friedman Jewish Community Center\, 613 S.J. Straus Lane\, Kingston
 \, PA 18704 US
SUMMARY:NPLS at the Luzerne County Senior Expo
END:VEVENT
END:VCALENDAR
