BEGIN:VCALENDAR
VERSION:2.0
PRODID:-//www.nplspa.org//NONSGML kigkonsult.se iCalcreator 2.30.10//
CALSCALE:GREGORIAN
METHOD:PUBLISH
UID:d489ae98-4cab-4e79-b3d8-d939834bcd89
X-WR-CALDESC:This distance-learning CLE is presented by North Penn Legal Se
 rvices.\n\nThe recent disaster declaration in four counties (Lycoming\, Po
 tter\, Tioga\, and Union) in Pennsylvania allows those who suffered critic
 al needs and losses to apply for assistance with home repairs\, property l
 osses\, and other allowable requests. Some requests are denied in part or 
 in full and applicants have a right to appeal these decisions. Get trainin
 g on the nature of appeals\, documentation needed\, and the appeals proces
 s. FEMA rules were updated in March 2024 to improve the coverage available
 \, so if you’ve had this training before\, you may want an update this yea
 r to help victims of Tropical Storm Debby and be prepared to help those re
 covering from local and regional disasters.\n \nThis CLE is presented at n
 o cost for Civil Legal Services advocates and Pro Bono Lawyers interested 
 in assisting clients through referrals from NPLS and NWLS.
X-WR-RELCALID:ec0fb2797f8e5ce51768f9fcffcbfaa1
X-WR-TIMEZONE:America/New_York
BEGIN:VTIMEZONE
TZID:America/New_York
BEGIN:STANDARD
TZNAME:EST
DTSTART:20231105T020000
TZOFFSETFROM:-0400
TZOFFSETTO:-0500
RDATE:20241103T020000
RDATE:20251102T020000
END:STANDARD
BEGIN:DAYLIGHT
TZNAME:EDT
DTSTART:20240310T020000
TZOFFSETFROM:-0500
TZOFFSETTO:-0400
RDATE:20250309T020000
RDATE:20260308T020000
END:DAYLIGHT
END:VTIMEZONE
BEGIN:VEVENT
UID:4f92ddde-26f4-45c0-9daa-58392ea111a2
DTSTAMP:20260420T033023Z
DESCRIPTION:This distance-learning CLE is presented by North Penn Legal Ser
 vices.\n\nThe recent disaster declaration in four counties (Lycoming\, Pot
 ter\, Tioga\, and Union) in Pennsylvania allows those who suffered critica
 l needs and losses to apply for assistance with home repairs\, property lo
 sses\, and other allowable requests. Some requests are denied in part or i
 n full and applicants have a right to appeal these decisions. Get training
  on the nature of appeals\, documentation needed\, and the appeals process
 . FEMA rules were updated in March 2024 to improve the coverage available\
 , so if you’ve had this training before\, you may want an update this year
  to help victims of Tropical Storm Debby and be prepared to help those rec
 overing from local and regional disasters.\n \nThis CLE is presented at no
  cost for Civil Legal Services advocates and Pro Bono Lawyers interested i
 n assisting clients through referrals from NPLS and NWLS.
DTSTART;TZID=America/New_York:20241030T110000
DTEND;TZID=America/New_York:20241030T120000
LOCATION:https://bit.ly/DisasterHelpCLE
SUMMARY:Disaster Legal Help – FEMA Individual Assistance and Helping Applic
 ants with Denials
END:VEVENT
END:VCALENDAR
