BEGIN:VCALENDAR
VERSION:2.0
PRODID:-//www.nplspa.org//NONSGML kigkonsult.se iCalcreator 2.30.10//
CALSCALE:GREGORIAN
METHOD:PUBLISH
UID:b1ab6464-592b-4077-9d13-8b01b92b19e3
X-WR-CALDESC:Bradford County Human Services Housing Outreach\n\nMore inform
 ation TBA.
X-WR-RELCALID:6686c8dbe4127d166815b6a8c0e28d81
X-WR-TIMEZONE:America/New_York
BEGIN:VTIMEZONE
TZID:America/New_York
BEGIN:STANDARD
TZNAME:EST
DTSTART:20241103T020000
TZOFFSETFROM:-0400
TZOFFSETTO:-0500
RDATE:20251102T020000
END:STANDARD
BEGIN:DAYLIGHT
TZNAME:EDT
DTSTART:20240310T020000
TZOFFSETFROM:-0500
TZOFFSETTO:-0400
RDATE:20250309T020000
RDATE:20260308T020000
END:DAYLIGHT
END:VTIMEZONE
BEGIN:VEVENT
UID:5b26f149-e8be-4452-ac8c-e98ee3149c5a
DTSTAMP:20260422T030613Z
DESCRIPTION:Bradford County Human Services Housing Outreach\n\nMore informa
 tion TBA.
DTSTART;TZID=America/New_York:20241107T130000
DTEND;TZID=America/New_York:20241107T150000
LOCATION:
SUMMARY:Bradford County Human Services Housing Outreach
END:VEVENT
END:VCALENDAR
