BEGIN:VCALENDAR
VERSION:2.0
PRODID:-//www.nplspa.org//NONSGML kigkonsult.se iCalcreator 2.30.10//
CALSCALE:GREGORIAN
METHOD:PUBLISH
UID:2925ee59-9740-4755-8c11-44a26767480c
X-WR-CALDESC:NPLS presentation to Head Start parents at the Luzerne County 
 Head Start Center in Hazleton
X-WR-RELCALID:3ef81466ac6679e34bdbb6ea8aa139ac
X-WR-TIMEZONE:America/New_York
BEGIN:VTIMEZONE
TZID:America/New_York
BEGIN:STANDARD
TZNAME:EST
DTSTART:20241103T020000
TZOFFSETFROM:-0400
TZOFFSETTO:-0500
RDATE:20251102T020000
END:STANDARD
BEGIN:DAYLIGHT
TZNAME:EDT
DTSTART:20240310T020000
TZOFFSETFROM:-0500
TZOFFSETTO:-0400
RDATE:20250309T020000
RDATE:20260308T020000
END:DAYLIGHT
END:VTIMEZONE
BEGIN:VEVENT
UID:5b7bed28-459d-451e-a588-73bb9e1df18d
DTSTAMP:20260422T031158Z
DESCRIPTION:NPLS presentation to Head Start parents at the Luzerne County H
 ead Start Center in Hazleton
DTSTART;TZID=America/New_York:20241114T090000
DTEND;TZID=America/New_York:20241114T100000
LOCATION:
SUMMARY:NPLS at Head Start Hazleton
END:VEVENT
END:VCALENDAR
