BEGIN:VCALENDAR
VERSION:2.0
PRODID:-//www.nplspa.org//NONSGML kigkonsult.se iCalcreator 2.30.10//
CALSCALE:GREGORIAN
METHOD:PUBLISH
UID:f5786cdc-61ef-4015-b9b7-6767d25d7b4f
X-WR-CALDESC:NPLS presentation about Clean Slate.
X-WR-RELCALID:cc3aa823b75971568ad2da75a9f40897
X-WR-TIMEZONE:America/New_York
BEGIN:VTIMEZONE
TZID:America/New_York
BEGIN:STANDARD
TZNAME:EST
DTSTART:20241103T020000
TZOFFSETFROM:-0400
TZOFFSETTO:-0500
RDATE:20251102T020000
END:STANDARD
BEGIN:DAYLIGHT
TZNAME:EDT
DTSTART:20240310T020000
TZOFFSETFROM:-0500
TZOFFSETTO:-0400
RDATE:20250309T020000
RDATE:20260308T020000
END:DAYLIGHT
END:VTIMEZONE
BEGIN:VEVENT
UID:b32296c7-76a2-4e2e-a5a7-f4a6091a7851
DTSTAMP:20260420T204136Z
DESCRIPTION:NPLS presentation about Clean Slate.
DTSTART;TZID=America/New_York:20241126T060000
DTEND;TZID=America/New_York:20241126T060001
LOCATION:
SUMMARY:NPLS at Salvation Army Allentown
END:VEVENT
END:VCALENDAR
