BEGIN:VCALENDAR
VERSION:2.0
PRODID:-//www.nplspa.org//NONSGML kigkonsult.se iCalcreator 2.30.10//
CALSCALE:GREGORIAN
METHOD:PUBLISH
UID:b4c1e397-c4ca-42fb-8d46-76630742337c
X-WR-CALDESC:NPLS presentation to Head Start parents at the Carbon County H
 ead Start (Pathstone) program in Lehighton\, PA.
X-WR-RELCALID:48e66aa001bfa7bc19e696e8014234b7
X-WR-TIMEZONE:America/New_York
BEGIN:VTIMEZONE
TZID:America/New_York
BEGIN:STANDARD
TZNAME:EST
DTSTART:20241103T020000
TZOFFSETFROM:-0400
TZOFFSETTO:-0500
RDATE:20251102T020000
END:STANDARD
BEGIN:DAYLIGHT
TZNAME:EDT
DTSTART:20240310T020000
TZOFFSETFROM:-0500
TZOFFSETTO:-0400
RDATE:20250309T020000
RDATE:20260308T020000
END:DAYLIGHT
END:VTIMEZONE
BEGIN:VEVENT
UID:84328685-ff3a-467f-9d26-a6d48b7c36dc
DTSTAMP:20260422T014106Z
DESCRIPTION:NPLS presentation to Head Start parents at the Carbon County He
 ad Start (Pathstone) program in Lehighton\, PA.
DTSTART;TZID=America/New_York:20241211T180000
DTEND;TZID=America/New_York:20241211T190000
LOCATION:
SUMMARY:NPLS at Head Start Lehighton
END:VEVENT
END:VCALENDAR
