BEGIN:VCALENDAR
VERSION:2.0
PRODID:-//www.nplspa.org//NONSGML kigkonsult.se iCalcreator 2.30.10//
CALSCALE:GREGORIAN
METHOD:PUBLISH
UID:8436c533-1484-43c1-86f8-a4c521d464d4
X-WR-CALDESC:JOIN NORTH PENN LEGAL SERVICES\, INC. FOR A LIVING WILL CLINIC
  and AN OPPORTUNITY TO HAVE A LIVING WILL PREPARED ON SITE!!\n\nRSVP Neede
 d - Please call 570-908-2453 and leave a message to see if you qualify for
  a free living will document.
X-WR-RELCALID:7ba813539891cf368d764857ed496164
X-WR-TIMEZONE:America/New_York
BEGIN:VTIMEZONE
TZID:America/New_York
BEGIN:STANDARD
TZNAME:EST
DTSTART:20241103T020000
TZOFFSETFROM:-0400
TZOFFSETTO:-0500
RDATE:20251102T020000
END:STANDARD
BEGIN:DAYLIGHT
TZNAME:EDT
DTSTART:20240310T020000
TZOFFSETFROM:-0500
TZOFFSETTO:-0400
RDATE:20250309T020000
RDATE:20260308T020000
END:DAYLIGHT
END:VTIMEZONE
BEGIN:VEVENT
UID:00ac0914-a154-44a0-9d60-22a33b9fe851
DTSTAMP:20260422T014106Z
DESCRIPTION:JOIN NORTH PENN LEGAL SERVICES\, INC. FOR A LIVING WILL CLINIC 
 and AN OPPORTUNITY TO HAVE A LIVING WILL PREPARED ON SITE!!\n\nRSVP Needed
  - Please call 570-908-2453 and leave a message to see if you qualify for 
 a free living will document.
DTSTART;TZID=America/New_York:20241213T150000
DTEND;TZID=America/New_York:20241213T170000
LOCATION:NPLS Tunkhannock Office\, 11 E. Tioga Street\, Tunkhannock\, PA 18
 637 US
SUMMARY:NPLS Tunkhannock Living Will Clinic
END:VEVENT
END:VCALENDAR
