BEGIN:VCALENDAR
VERSION:2.0
PRODID:-//www.nplspa.org//NONSGML kigkonsult.se iCalcreator 2.30.10//
CALSCALE:GREGORIAN
METHOD:PUBLISH
UID:136dce81-894b-40db-848f-f518f50a0833
X-WR-CALDESC:
X-WR-RELCALID:4b0dda3d2581e1480b365e47e7ebb04c
X-WR-TIMEZONE:America/New_York
BEGIN:VTIMEZONE
TZID:America/New_York
BEGIN:STANDARD
TZNAME:EST
DTSTART:20241103T020000
TZOFFSETFROM:-0400
TZOFFSETTO:-0500
RDATE:20251102T020000
END:STANDARD
BEGIN:DAYLIGHT
TZNAME:EDT
DTSTART:20240310T020000
TZOFFSETFROM:-0500
TZOFFSETTO:-0400
RDATE:20250309T020000
RDATE:20260308T020000
END:DAYLIGHT
END:VTIMEZONE
BEGIN:VEVENT
UID:570b9a7f-0fe4-4b50-849a-d65f9ec42fe3
DTSTAMP:20260422T014054Z
DESCRIPTION:
DTSTART;TZID=America/New_York:20241216T170000
DTEND;TZID=America/New_York:20241216T180000
LOCATION:
SUMMARY:NPLS Board Meeting
END:VEVENT
END:VCALENDAR
