BEGIN:VCALENDAR
VERSION:2.0
PRODID:-//www.nplspa.org//NONSGML kigkonsult.se iCalcreator 2.30.10//
CALSCALE:GREGORIAN
METHOD:PUBLISH
UID:a5be68c1-4459-4e9e-8458-55674ada7dec
X-WR-CALDESC:Is your criminal record preventing you from obtaining employme
 nt or housing? Are you eligible to expunge your criminal record or have it
  sealed or clean slated under Pennsylvania law? Come and find out by atten
 ding the Expungement and Clean Slate Clinic on Wednesday\, February 12\, 2
 025 at 12 Noon at the Rudy Gelnett Memorial Library\, Keystone Room\, 1 N.
  High Street\, Selinsgrove\, PA 17870. You must call in advance to reserve
  a spot in the clinic. The intake number is 877-953-4250\; ask to particip
 ate in the Sunbury Office Expungement Clinic. The clinic is open to all el
 igible for services from North Penn Legal Services.  \n\nThanks to a gener
 ous grant from the Pennsylvania IOLTA Board\, North Penn Legal Services (N
 PLS) is able to provide free legal clinics and other services in rural com
 munities of Northeast Pennsylvania.
X-WR-RELCALID:9b93a11492da188933db6a6f02a48470
X-WR-TIMEZONE:America/New_York
BEGIN:VTIMEZONE
TZID:America/New_York
BEGIN:STANDARD
TZNAME:EST
DTSTART:20241103T020000
TZOFFSETFROM:-0400
TZOFFSETTO:-0500
RDATE:20251102T020000
END:STANDARD
BEGIN:DAYLIGHT
TZNAME:EDT
DTSTART:20240310T020000
TZOFFSETFROM:-0500
TZOFFSETTO:-0400
RDATE:20250309T020000
RDATE:20260308T020000
END:DAYLIGHT
END:VTIMEZONE
BEGIN:VEVENT
UID:d77884b4-b92f-4498-b308-b97e02fac473
DTSTAMP:20260421T224833Z
DESCRIPTION:Is your criminal record preventing you from obtaining employmen
 t or housing? Are you eligible to expunge your criminal record or have it 
 sealed or clean slated under Pennsylvania law? Come and find out by attend
 ing the Expungement and Clean Slate Clinic on Wednesday\, February 12\, 20
 25 at 12 Noon at the Rudy Gelnett Memorial Library\, Keystone Room\, 1 N. 
 High Street\, Selinsgrove\, PA 17870. You must call in advance to reserve 
 a spot in the clinic. The intake number is 877-953-4250\; ask to participa
 te in the Sunbury Office Expungement Clinic. The clinic is open to all eli
 gible for services from North Penn Legal Services.  \n\nThanks to a genero
 us grant from the Pennsylvania IOLTA Board\, North Penn Legal Services (NP
 LS) is able to provide free legal clinics and other services in rural comm
 unities of Northeast Pennsylvania.
DTSTART;TZID=America/New_York:20250212T120000
DTEND;TZID=America/New_York:20250212T140000
LOCATION:Rudy Gelnett Memorial Library\, Keystone Room\, 1 N. High Street\,
  Selinsgrove\, PA 17870 US
SUMMARY:NPLS Expungement and Clean Slate Clinic
END:VEVENT
END:VCALENDAR
