BEGIN:VCALENDAR
VERSION:2.0
PRODID:-//www.nplspa.org//NONSGML kigkonsult.se iCalcreator 2.30.10//
CALSCALE:GREGORIAN
METHOD:PUBLISH
UID:926f87d8-5fdc-49bd-b3c2-46901d575639
X-WR-CALDESC:The Community HealthChoices Waiver: Qualifying for and Accessi
 ng Services\nWednesday\, February 19\, 2025 from 1:00 p.m.–3:00 p.m.\n2 Su
 bstantive PA CLE Credits\n\nThis free distance-learning CLE is presented b
 y North Penn Legal Services.\n\nThis session will provide an overview of t
 he Community HealthChoices (CHC) Waiver so you can help your clients quali
 fy for Medicaid-funded services at home and make sure they get the service
 s they need once they are enrolled. We'll cover eligibility and enrollment
 \, provide tips on how to best position your client to get the level of se
 rvices they need from their CHC managed care plan\, and explain how to con
 test inadequate service plans or reductions in service hours.\n
X-WR-RELCALID:20f5f82f6fc6d526510fdf9988c4ef0f
X-WR-TIMEZONE:America/New_York
BEGIN:VTIMEZONE
TZID:America/New_York
BEGIN:STANDARD
TZNAME:EST
DTSTART:20241103T020000
TZOFFSETFROM:-0400
TZOFFSETTO:-0500
RDATE:20251102T020000
END:STANDARD
BEGIN:DAYLIGHT
TZNAME:EDT
DTSTART:20240310T020000
TZOFFSETFROM:-0500
TZOFFSETTO:-0400
RDATE:20250309T020000
RDATE:20260308T020000
END:DAYLIGHT
END:VTIMEZONE
BEGIN:VEVENT
UID:f726694a-23ec-43b4-afbe-99adb5e31ec1
DTSTAMP:20260421T225128Z
DESCRIPTION:The Community HealthChoices Waiver: Qualifying for and Accessin
 g Services\nWednesday\, February 19\, 2025 from 1:00 p.m.–3:00 p.m.\n2 Sub
 stantive PA CLE Credits\n\nThis free distance-learning CLE is presented by
  North Penn Legal Services.\n\nThis session will provide an overview of th
 e Community HealthChoices (CHC) Waiver so you can help your clients qualif
 y for Medicaid-funded services at home and make sure they get the services
  they need once they are enrolled. We'll cover eligibility and enrollment\
 , provide tips on how to best position your client to get the level of ser
 vices they need from their CHC managed care plan\, and explain how to cont
 est inadequate service plans or reductions in service hours.\n
DTSTART;TZID=America/New_York:20250219T130000
DTEND;TZID=America/New_York:20250219T150000
LOCATION:https://bit.ly/HCWaiver2025
SUMMARY:NPLS CLE - The Community HealthChoices Waiver: Qualifying for and A
 ccessing Services
END:VEVENT
END:VCALENDAR
