BEGIN:VCALENDAR
VERSION:2.0
PRODID:-//www.nplspa.org//NONSGML kigkonsult.se iCalcreator 2.30.10//
CALSCALE:GREGORIAN
METHOD:PUBLISH
UID:7c315008-3ddf-4040-8aa8-4bd5212e6a59
X-WR-CALDESC:ARE YOU RENTING AN OFF-CAMPUS APARTMENT?\nLOOKING TO MOVE INTO
  A NEW UNIT NEXT SEMESTER?\n\nCome learn about tenants’ rights under PA la
 w with an attorney from North Penn Legal Services.\n
X-WR-RELCALID:b3631e3c76573d4dd973e8be750ae325
X-WR-TIMEZONE:America/New_York
BEGIN:VTIMEZONE
TZID:America/New_York
BEGIN:STANDARD
TZNAME:EST
DTSTART:20241103T020000
TZOFFSETFROM:-0400
TZOFFSETTO:-0500
RDATE:20251102T020000
END:STANDARD
BEGIN:DAYLIGHT
TZNAME:EDT
DTSTART:20250309T020000
TZOFFSETFROM:-0500
TZOFFSETTO:-0400
RDATE:20260308T020000
END:DAYLIGHT
END:VTIMEZONE
BEGIN:VEVENT
UID:dd8dce3d-03c0-4ebf-b8b9-3c41fcf22a9a
DTSTAMP:20260421T212013Z
DESCRIPTION:ARE YOU RENTING AN OFF-CAMPUS APARTMENT?\nLOOKING TO MOVE INTO 
 A NEW UNIT NEXT SEMESTER?\n\nCome learn about tenants’ rights under PA law
  with an attorney from North Penn Legal Services.\n
DTSTART;TZID=America/New_York:20250326T180000
DTEND;TZID=America/New_York:20250326T190000
LOCATION:Mansfield University - North Hall Library\,  5 Swan Street\, Mansf
 ield\, PA 16933 US
SUMMARY:NPLS at Mansfield University North Hall Library: Landlord/Tenant Ri
 ghts
END:VEVENT
END:VCALENDAR
