BEGIN:VCALENDAR
VERSION:2.0
PRODID:-//www.nplspa.org//NONSGML kigkonsult.se iCalcreator 2.30.10//
CALSCALE:GREGORIAN
METHOD:PUBLISH
UID:d3da65a4-ad6e-4163-948b-19210898a88e
X-WR-CALDESC:Join North Penn Legal Services (NPLS) in partnership with Penn
 sylvania CareerLink® Lehigh Valley for a live webinar on the Clean Slate L
 aw! This workshop is tailored for individuals who have experienced the cri
 minal justice system and will discuss the Clean Slate Law in Pennsylvania\
 , record expungement\, the Federal Bonding Program\, and more.
X-WR-RELCALID:9d35a6103765cc06aaf66d811930fce9
X-WR-TIMEZONE:America/New_York
BEGIN:VTIMEZONE
TZID:America/New_York
BEGIN:STANDARD
TZNAME:EST
DTSTART:20241103T020000
TZOFFSETFROM:-0400
TZOFFSETTO:-0500
RDATE:20251102T020000
END:STANDARD
BEGIN:DAYLIGHT
TZNAME:EDT
DTSTART:20250309T020000
TZOFFSETFROM:-0500
TZOFFSETTO:-0400
RDATE:20260308T020000
END:DAYLIGHT
END:VTIMEZONE
BEGIN:VEVENT
UID:f40e6c84-a891-498f-a5c1-f7d34c45d1a9
DTSTAMP:20260421T212318Z
DESCRIPTION:Join North Penn Legal Services (NPLS) in partnership with Penns
 ylvania CareerLink® Lehigh Valley for a live webinar on the Clean Slate La
 w! This workshop is tailored for individuals who have experienced the crim
 inal justice system and will discuss the Clean Slate Law in Pennsylvania\,
  record expungement\, the Federal Bonding Program\, and more.
DTSTART;TZID=America/New_York:20250328T130000
DTEND;TZID=America/New_York:20250328T143000
LOCATION:PA CareerLink® Lehigh Valley\, 555 Union Boulevard \, Allentown\, 
 PA 18109 US
SUMMARY:NPLS at CareerLink Lehigh Valley
END:VEVENT
END:VCALENDAR
