BEGIN:VCALENDAR
VERSION:2.0
PRODID:-//www.nplspa.org//NONSGML kigkonsult.se iCalcreator 2.30.10//
CALSCALE:GREGORIAN
METHOD:PUBLISH
UID:d3d90d47-2f5d-46a7-b4f2-a11be3b0fc38
X-WR-CALDESC:Public Benefits Presentation for the students at Northeast PA 
 Area Health Education Center.
X-WR-RELCALID:d6ecf444eabb7c9360d50661c72f7a09
X-WR-TIMEZONE:America/New_York
BEGIN:VTIMEZONE
TZID:America/New_York
BEGIN:STANDARD
TZNAME:EST
DTSTART:20241103T020000
TZOFFSETFROM:-0400
TZOFFSETTO:-0500
RDATE:20251102T020000
END:STANDARD
BEGIN:DAYLIGHT
TZNAME:EDT
DTSTART:20250309T020000
TZOFFSETFROM:-0500
TZOFFSETTO:-0400
RDATE:20260308T020000
END:DAYLIGHT
END:VTIMEZONE
BEGIN:VEVENT
UID:07023652-f5f4-4e23-bedf-85b18dab7a4f
DTSTAMP:20260421T200623Z
DESCRIPTION:Public Benefits Presentation for the students at Northeast PA A
 rea Health Education Center.
DTSTART;TZID=America/New_York:20250408T060000
DTEND;TZID=America/New_York:20250408T060001
LOCATION:
SUMMARY:NPLS at Northeast PA Area Health Education Center
END:VEVENT
END:VCALENDAR
