BEGIN:VCALENDAR
VERSION:2.0
PRODID:-//www.nplspa.org//NONSGML kigkonsult.se iCalcreator 2.30.10//
CALSCALE:GREGORIAN
METHOD:PUBLISH
UID:aca41e58-5104-413f-95b5-afa493df7a8b
X-WR-CALDESC:Join us for a free\, in-person conference about the rights of 
 residents living in manufactured home communities in Pennsylvania. Lunch w
 ill be provided.\n\nTopics include:\n\nTax Rebates and Manufactured Homes
 \n \nHighlights of the Pennsylvania Manufactured Home Community Rights Act
 \nPresented by NPLS Staff Attorneys\n   •	Homeowner’s Rights (selling a hom
 e\, rules and regulations\, restrictions\, eviction notice\, court order\,
  appeal procedures)\n   •	Tenant’s Rights (notice\, court order\, eviction 
 appeal procedures)\n\nNavigating Utility Issues\nPresented by Pennsylvania
  Utility Law Project (PULP)\n \nExploring Pathways to Resident Ownership i
 n Pennsylvania\nPresented by ROC USA\n   •	Featuring a panel of recently or
 ganized ROC (Resident Owned Communities) properties in Northampton County
 \n\nThis summit includes a 2-hour Substantive CLE for PA attorneys.\nThe 2
 025 NPLS Fair Housing Summit is made possible by generous support from Gre
 ater Lehigh Valley Realtors.
X-WR-RELCALID:903e8112870bcd6f611704b044d577c2
X-WR-TIMEZONE:America/New_York
BEGIN:VTIMEZONE
TZID:America/New_York
BEGIN:STANDARD
TZNAME:EST
DTSTART:20241103T020000
TZOFFSETFROM:-0400
TZOFFSETTO:-0500
RDATE:20251102T020000
END:STANDARD
BEGIN:DAYLIGHT
TZNAME:EDT
DTSTART:20250309T020000
TZOFFSETFROM:-0500
TZOFFSETTO:-0400
RDATE:20260308T020000
END:DAYLIGHT
END:VTIMEZONE
BEGIN:VEVENT
UID:1d99dd88-17fa-4912-9cdb-2774afc75195
DTSTAMP:20260421T200155Z
DESCRIPTION:Join us for a free\, in-person conference about the rights of r
 esidents living in manufactured home communities in Pennsylvania. Lunch wi
 ll be provided.\n\nTopics include:\n\nTax Rebates and Manufactured Homes\n
  \nHighlights of the Pennsylvania Manufactured Home Community Rights Act\n
 Presented by NPLS Staff Attorneys\n   •	Homeowner’s Rights (selling a home\
 , rules and regulations\, restrictions\, eviction notice\, court order\, a
 ppeal procedures)\n   •	Tenant’s Rights (notice\, court order\, eviction ap
 peal procedures)\n\nNavigating Utility Issues\nPresented by Pennsylvania U
 tility Law Project (PULP)\n \nExploring Pathways to Resident Ownership in 
 Pennsylvania\nPresented by ROC USA\n   •	Featuring a panel of recently orga
 nized ROC (Resident Owned Communities) properties in Northampton County\n
 \nThis summit includes a 2-hour Substantive CLE for PA attorneys.\nThe 202
 5 NPLS Fair Housing Summit is made possible by generous support from Great
 er Lehigh Valley Realtors.
DTSTART;TZID=America/New_York:20250422T090000
DTEND;TZID=America/New_York:20250422T133000
LOCATION:3835 Green Pond Road\, Bethlehem\, PA 18020 US
SUMMARY:2025 NPLS Fair Housing Summit -- Manufactured Home Communities in P
 ennsylvania: Challenges and Opportunities
END:VEVENT
END:VCALENDAR
