BEGIN:VCALENDAR
VERSION:2.0
PRODID:-//www.nplspa.org//NONSGML kigkonsult.se iCalcreator 2.30.10//
CALSCALE:GREGORIAN
METHOD:PUBLISH
UID:17e32a78-2aaa-4951-ac16-7ba874e7e32e
X-WR-CALDESC:NPLS presentation at Luzerne County Exeter Head Start.
X-WR-RELCALID:20f7cc4d2a5b1ea8bc15a0972da70f9c
X-WR-TIMEZONE:America/New_York
BEGIN:VTIMEZONE
TZID:America/New_York
BEGIN:STANDARD
TZNAME:EST
DTSTART:20241103T020000
TZOFFSETFROM:-0400
TZOFFSETTO:-0500
RDATE:20251102T020000
RDATE:20261101T020000
END:STANDARD
BEGIN:DAYLIGHT
TZNAME:EDT
DTSTART:20250309T020000
TZOFFSETFROM:-0500
TZOFFSETTO:-0400
RDATE:20260308T020000
END:DAYLIGHT
END:VTIMEZONE
BEGIN:VEVENT
UID:eedb172d-087f-4434-9a86-44b3ecf80d36
DTSTAMP:20260421T185238Z
DESCRIPTION:NPLS presentation at Luzerne County Exeter Head Start.
DTSTART;TZID=America/New_York:20250509T060000
DTEND;TZID=America/New_York:20250509T060001
LOCATION:
SUMMARY:NPLS at Luzerne County Head Start Exeter PA
END:VEVENT
END:VCALENDAR
