BEGIN:VCALENDAR
VERSION:2.0
PRODID:-//www.nplspa.org//NONSGML kigkonsult.se iCalcreator 2.30.10//
CALSCALE:GREGORIAN
METHOD:PUBLISH
UID:e771b5e3-c3a8-43e1-8dc1-be6b0f5fe56f
X-WR-CALDESC:General NPLS Information
X-WR-RELCALID:0ff463a646a5ff2ea9fd07e8b8a9c435
X-WR-TIMEZONE:America/New_York
BEGIN:VTIMEZONE
TZID:America/New_York
BEGIN:STANDARD
TZNAME:EST
DTSTART:20241103T020000
TZOFFSETFROM:-0400
TZOFFSETTO:-0500
RDATE:20251102T020000
RDATE:20261101T020000
END:STANDARD
BEGIN:DAYLIGHT
TZNAME:EDT
DTSTART:20250309T020000
TZOFFSETFROM:-0500
TZOFFSETTO:-0400
RDATE:20260308T020000
END:DAYLIGHT
END:VTIMEZONE
BEGIN:VEVENT
UID:0f1cf851-3c9f-4ab8-b3f6-5f78b0411a34
DTSTAMP:20260421T184828Z
DESCRIPTION:General NPLS Information
DTSTART;TZID=America/New_York:20250521T060000
DTEND;TZID=America/New_York:20250521T060001
LOCATION:
SUMMARY:NPLS at Washington Elementary Block Party - Allentown PA
END:VEVENT
END:VCALENDAR
