BEGIN:VCALENDAR
VERSION:2.0
PRODID:-//www.nplspa.org//NONSGML kigkonsult.se iCalcreator 2.30.10//
CALSCALE:GREGORIAN
METHOD:PUBLISH
UID:3b165c66-f76e-45a4-9804-8e00ee1a8a7c
X-WR-CALDESC:NPLS Estate Planning presentation.
X-WR-RELCALID:19022053b2905d83b7b3e8929540ad08
X-WR-TIMEZONE:America/New_York
BEGIN:VTIMEZONE
TZID:America/New_York
BEGIN:STANDARD
TZNAME:EST
DTSTART:20241103T020000
TZOFFSETFROM:-0400
TZOFFSETTO:-0500
RDATE:20251102T020000
RDATE:20261101T020000
END:STANDARD
BEGIN:DAYLIGHT
TZNAME:EDT
DTSTART:20250309T020000
TZOFFSETFROM:-0500
TZOFFSETTO:-0400
RDATE:20260308T020000
END:DAYLIGHT
END:VTIMEZONE
BEGIN:VEVENT
UID:bdf4ba18-fe8a-4766-a0f0-7ba28bf509dc
DTSTAMP:20260421T184639Z
DESCRIPTION:NPLS Estate Planning presentation.
DTSTART;TZID=America/New_York:20250528T170000
DTEND;TZID=America/New_York:20250528T180000
LOCATION:The Green Free Library\, 134 Main Street \, Wellsboro\, PA 16901 U
 S
SUMMARY:NPLS at Green Free Library Wellsboro - Estate Planning
END:VEVENT
END:VCALENDAR
