BEGIN:VCALENDAR
VERSION:2.0
PRODID:-//www.nplspa.org//NONSGML kigkonsult.se iCalcreator 2.30.10//
CALSCALE:GREGORIAN
METHOD:PUBLISH
UID:42184b1b-d33f-4d91-87a1-155edef0f2f5
X-WR-CALDESC:You Are Your Best Advocate: How to Represent Yourself in CHC P
 AS Appeals\n\nIn this webinar\, advocates from the PA Health Law Project a
 nd Northwestern Legal Services will educate Community HealthChoices (CHC) 
 participants and people who support them about Personal Assistance Service
 s – especially about appeal rights when these services are denied by someo
 ne’s CHC Plan. Presenters will cover the basics of the appeal process and 
 share tips for making a good case to help participants\, their caregivers\
 , and other supporters represent themselves in an appeal. Materials will a
 lso be shared to help you prepare an appeal\, feel empowered\, and get a g
 ood outcome! \n\nA CHC Participant living in Northwestern PA will share th
 eir story about representing themself in a CHC PAS appeal and winning. The
 re will be time for questions during the webinar. \n\nPlease note that thi
 s training is for CHC Participants living in Northwestern Pennsylvania and
  their Direct Care Workers\, Family Members/Caregivers\, and Advocates.
X-WR-RELCALID:823ec96f922c1ff4eafe35a50ee7b480
X-WR-TIMEZONE:America/New_York
BEGIN:VTIMEZONE
TZID:America/New_York
BEGIN:STANDARD
TZNAME:EST
DTSTART:20241103T020000
TZOFFSETFROM:-0400
TZOFFSETTO:-0500
RDATE:20251102T020000
RDATE:20261101T020000
END:STANDARD
BEGIN:DAYLIGHT
TZNAME:EDT
DTSTART:20250309T020000
TZOFFSETFROM:-0500
TZOFFSETTO:-0400
RDATE:20260308T020000
END:DAYLIGHT
END:VTIMEZONE
BEGIN:VEVENT
UID:cd759cac-bae2-4bf8-bbe3-834b7b010af0
DTSTAMP:20260421T171900Z
DESCRIPTION:You Are Your Best Advocate: How to Represent Yourself in CHC PA
 S Appeals\n\nIn this webinar\, advocates from the PA Health Law Project an
 d Northwestern Legal Services will educate Community HealthChoices (CHC) p
 articipants and people who support them about Personal Assistance Services
  – especially about appeal rights when these services are denied by someon
 e’s CHC Plan. Presenters will cover the basics of the appeal process and s
 hare tips for making a good case to help participants\, their caregivers\,
  and other supporters represent themselves in an appeal. Materials will al
 so be shared to help you prepare an appeal\, feel empowered\, and get a go
 od outcome! \n\nA CHC Participant living in Northwestern PA will share the
 ir story about representing themself in a CHC PAS appeal and winning. Ther
 e will be time for questions during the webinar. \n\nPlease note that this
  training is for CHC Participants living in Northwestern Pennsylvania and 
 their Direct Care Workers\, Family Members/Caregivers\, and Advocates.
DTSTART;TZID=America/New_York:20250627T100000
DTEND;TZID=America/New_York:20250627T113000
LOCATION:https://BIT.LY/43YLUEW
SUMMARY:Free Webinar - How to Represent Yourself in CHC PAS Appeals
END:VEVENT
END:VCALENDAR
