BEGIN:VCALENDAR
VERSION:2.0
PRODID:-//www.nplspa.org//NONSGML kigkonsult.se iCalcreator 2.30.10//
CALSCALE:GREGORIAN
METHOD:PUBLISH
UID:5d039db3-8742-4c44-81cb-9a7ed3fd3c8a
X-WR-CALDESC:NPLS presentation.
X-WR-RELCALID:589285d250de976cc94b92ccf3fb0dc7
X-WR-TIMEZONE:America/New_York
BEGIN:VTIMEZONE
TZID:America/New_York
BEGIN:STANDARD
TZNAME:EST
DTSTART:20241103T020000
TZOFFSETFROM:-0400
TZOFFSETTO:-0500
RDATE:20251102T020000
RDATE:20261101T020000
END:STANDARD
BEGIN:DAYLIGHT
TZNAME:EDT
DTSTART:20250309T020000
TZOFFSETFROM:-0500
TZOFFSETTO:-0400
RDATE:20260308T020000
END:DAYLIGHT
END:VTIMEZONE
BEGIN:VEVENT
UID:8edce655-2e45-46b1-8b1a-c8d0a784a580
DTSTAMP:20260421T155103Z
DESCRIPTION:NPLS presentation.
DTSTART;TZID=America/New_York:20250721T060000
DTEND;TZID=America/New_York:20250721T060001
LOCATION:
SUMMARY:NPLS at Salvation Army Allentown PA
END:VEVENT
END:VCALENDAR
