BEGIN:VCALENDAR
VERSION:2.0
PRODID:-//www.nplspa.org//NONSGML kigkonsult.se iCalcreator 2.30.10//
CALSCALE:GREGORIAN
METHOD:PUBLISH
UID:6a8f947f-0c81-4038-a3f0-43910c25b5cc
X-WR-CALDESC:This CLE is presented by North Penn Legal Services. There is n
 o cost for Bradford County Bar Association Members.\n\nPennsylvania overha
 uled the entire Adoption Chapter in its Orphans Court Rules\, effective Ju
 ly 1\, 2022. This briefly outlines those changes\, reviews the reasons for
  those changes\, and highlights some practical issues that have arisen or 
 could arise under the new rules.\n\nPRESENTER BIO\nMegan S. Wells\, a law 
 school graduate of The Pennsylvania State University\, The Dickinson Schoo
 l of Law\, maintains a solo private practice in primarily juvenile and fam
 ily law: Wells Law\, PLLC. Her first hearing after passing the bar exam wa
 s representing Bradford County Children & Youth Services\, and her passion
  for juvenile law immediately took hold. Since that 2015 hearing\, she wor
 ked in a small general practice law firm before hanging her own digital sh
 ingle in 2019\, has represented two Children & Youth agencies\, served as 
 Bradford County Child Advocate\, served as Mental Health Review Officer fo
 r two counties\, and represented litigants in all roles in dependency and 
 related orphan’s court proceedings. She is presently Bradford County Menta
 l Health Review Officer\, Solicitor for Tioga County Department of Human S
 ervices\, Children & Youth\, and back-up and consult counsel for Bradford 
 County Department of Human Services\, Children & Youth. Those contracts of
 ten keep her too busy for her private practice\, so what little time can b
 e apportioned to that private work today is primarily focused on adoptions
 .
X-WR-RELCALID:e8c139c027fada03b8ce34a9d4dffae8
X-WR-TIMEZONE:America/New_York
BEGIN:VTIMEZONE
TZID:America/New_York
BEGIN:STANDARD
TZNAME:EST
DTSTART:20241103T020000
TZOFFSETFROM:-0400
TZOFFSETTO:-0500
RDATE:20251102T020000
RDATE:20261101T020000
END:STANDARD
BEGIN:DAYLIGHT
TZNAME:EDT
DTSTART:20250309T020000
TZOFFSETFROM:-0500
TZOFFSETTO:-0400
RDATE:20260308T020000
END:DAYLIGHT
END:VTIMEZONE
BEGIN:VEVENT
UID:e88907e8-4330-4a96-b647-1d44e0e77348
DTSTAMP:20260421T155201Z
DESCRIPTION:This CLE is presented by North Penn Legal Services. There is no
  cost for Bradford County Bar Association Members.\n\nPennsylvania overhau
 led the entire Adoption Chapter in its Orphans Court Rules\, effective Jul
 y 1\, 2022. This briefly outlines those changes\, reviews the reasons for 
 those changes\, and highlights some practical issues that have arisen or c
 ould arise under the new rules.\n\nPRESENTER BIO\nMegan S. Wells\, a law s
 chool graduate of The Pennsylvania State University\, The Dickinson School
  of Law\, maintains a solo private practice in primarily juvenile and fami
 ly law: Wells Law\, PLLC. Her first hearing after passing the bar exam was
  representing Bradford County Children & Youth Services\, and her passion 
 for juvenile law immediately took hold. Since that 2015 hearing\, she work
 ed in a small general practice law firm before hanging her own digital shi
 ngle in 2019\, has represented two Children & Youth agencies\, served as B
 radford County Child Advocate\, served as Mental Health Review Officer for
  two counties\, and represented litigants in all roles in dependency and r
 elated orphan’s court proceedings. She is presently Bradford County Mental
  Health Review Officer\, Solicitor for Tioga County Department of Human Se
 rvices\, Children & Youth\, and back-up and consult counsel for Bradford C
 ounty Department of Human Services\, Children & Youth. Those contracts oft
 en keep her too busy for her private practice\, so what little time can be
  apportioned to that private work today is primarily focused on adoptions.
DTSTART;TZID=America/New_York:20250724T120000
DTEND;TZID=America/New_York:20250724T130000
LOCATION:NPLS Office Conference Room\, 21 Main Street\, Towanda\, PA 18840 
 US
SUMMARY:NPLS CLE: A Whole New Chapter – Adoption Rules in Pennsylvania
END:VEVENT
END:VCALENDAR
