BEGIN:VCALENDAR
VERSION:2.0
PRODID:-//www.nplspa.org//NONSGML kigkonsult.se iCalcreator 2.30.10//
CALSCALE:GREGORIAN
METHOD:PUBLISH
UID:34d8623a-febe-41ac-bda6-0b286d80d160
X-WR-CALDESC:Join North Penn Legal Services (NPLS) in partnership with Penn
 sylvania CareerLink® Lehigh Valley for a workshop on the Clean Slate Law! 
 This workshop is tailored for individuals who have experienced the crimina
 l justice system and will discuss the Clean Slate Law in Pennsylvania\, re
 cord expungement\, the Federal Bonding Program\, and more.\n\nThis event i
 s both in-person and virtual. The Zoom link is available on the link below
 .
X-WR-RELCALID:34ca43f1e282d3aca98d31183a92eee4
X-WR-TIMEZONE:America/New_York
BEGIN:VTIMEZONE
TZID:America/New_York
BEGIN:STANDARD
TZNAME:EST
DTSTART:20241103T020000
TZOFFSETFROM:-0400
TZOFFSETTO:-0500
RDATE:20251102T020000
RDATE:20261101T020000
END:STANDARD
BEGIN:DAYLIGHT
TZNAME:EDT
DTSTART:20250309T020000
TZOFFSETFROM:-0500
TZOFFSETTO:-0400
RDATE:20260308T020000
END:DAYLIGHT
END:VTIMEZONE
BEGIN:VEVENT
UID:76ded976-a018-4fca-a128-a455bf53ace1
DTSTAMP:20260421T142643Z
DESCRIPTION:Join North Penn Legal Services (NPLS) in partnership with Penns
 ylvania CareerLink® Lehigh Valley for a workshop on the Clean Slate Law! T
 his workshop is tailored for individuals who have experienced the criminal
  justice system and will discuss the Clean Slate Law in Pennsylvania\, rec
 ord expungement\, the Federal Bonding Program\, and more.\n\nThis event is
  both in-person and virtual. The Zoom link is available on the link below.
DTSTART;TZID=America/New_York:20250821T140000
DTEND;TZID=America/New_York:20250821T153000
LOCATION:PA CareerLink® Lehigh Valley\, 555 Union Boulevard\, Allentown\, P
 A 18109 US
SUMMARY:Clean Slate Law in PA | North Penn Legal Services (In Person/Virtua
 l)
END:VEVENT
END:VCALENDAR
