BEGIN:VCALENDAR
VERSION:2.0
PRODID:-//www.nplspa.org//NONSGML kigkonsult.se iCalcreator 2.30.10//
CALSCALE:GREGORIAN
METHOD:PUBLISH
UID:6fb72bba-1b42-420b-8a81-c268452bb805
X-WR-CALDESC:NPLS will be presenting Clean Slate information.
X-WR-RELCALID:9bc9631ca95aeb2efaaeff7ae35536b5
X-WR-TIMEZONE:America/New_York
BEGIN:VTIMEZONE
TZID:America/New_York
BEGIN:STANDARD
TZNAME:EST
DTSTART:20241103T020000
TZOFFSETFROM:-0400
TZOFFSETTO:-0500
RDATE:20251102T020000
RDATE:20261101T020000
END:STANDARD
BEGIN:DAYLIGHT
TZNAME:EDT
DTSTART:20250309T020000
TZOFFSETFROM:-0500
TZOFFSETTO:-0400
RDATE:20260308T020000
END:DAYLIGHT
END:VTIMEZONE
BEGIN:VEVENT
UID:73487ec6-0926-4256-861f-a09f80fb9416
DTSTAMP:20260421T143037Z
DESCRIPTION:NPLS will be presenting Clean Slate information.
DTSTART;TZID=America/New_York:20250825T060000
DTEND;TZID=America/New_York:20250825T060001
LOCATION:
SUMMARY:NPLS at Salvation Army Allentown PA
END:VEVENT
END:VCALENDAR
