BEGIN:VCALENDAR
VERSION:2.0
PRODID:-//www.nplspa.org//NONSGML kigkonsult.se iCalcreator 2.30.10//
CALSCALE:GREGORIAN
METHOD:PUBLISH
UID:903a80e4-97ad-47e6-9f96-9107765ea920
X-WR-CALDESC:NPLS will have an information table at the Health and Wellness
  Fair at Monroe County Head Start in East Stroudsburg on August 26 from 9a
 m – 1pm.
X-WR-RELCALID:10e1f7eaf0c36b109940fee5ae56cca0
X-WR-TIMEZONE:America/New_York
BEGIN:VTIMEZONE
TZID:America/New_York
BEGIN:STANDARD
TZNAME:EST
DTSTART:20241103T020000
TZOFFSETFROM:-0400
TZOFFSETTO:-0500
RDATE:20251102T020000
RDATE:20261101T020000
END:STANDARD
BEGIN:DAYLIGHT
TZNAME:EDT
DTSTART:20250309T020000
TZOFFSETFROM:-0500
TZOFFSETTO:-0400
RDATE:20260308T020000
END:DAYLIGHT
END:VTIMEZONE
BEGIN:VEVENT
UID:38fafb04-f5eb-4d09-9088-b275f2f657db
DTSTAMP:20260421T142751Z
DESCRIPTION:NPLS will have an information table at the Health and Wellness 
 Fair at Monroe County Head Start in East Stroudsburg on August 26 from 9am
  – 1pm.
DTSTART;TZID=America/New_York:20250826T090000
DTEND;TZID=America/New_York:20250826T130000
LOCATION:212 West 4th Street\, East Stroudsburg\, PA 18301 US
SUMMARY:NPLS at Health and Wellness Fair at Monroe County Head Start in Eas
 t Stroudsburg
END:VEVENT
END:VCALENDAR
