BEGIN:VCALENDAR
VERSION:2.0
PRODID:-//www.nplspa.org//NONSGML kigkonsult.se iCalcreator 2.30.10//
CALSCALE:GREGORIAN
METHOD:PUBLISH
UID:6ef7cac0-301d-4e76-9134-b5b69b050d88
X-WR-CALDESC:NPLS will present a Fair Housing Training program for staff.
X-WR-RELCALID:6938efbdcef971c0eef7cce7cd73a8c3
X-WR-TIMEZONE:America/New_York
BEGIN:VTIMEZONE
TZID:America/New_York
BEGIN:STANDARD
TZNAME:EST
DTSTART:20241103T020000
TZOFFSETFROM:-0400
TZOFFSETTO:-0500
RDATE:20251102T020000
RDATE:20261101T020000
END:STANDARD
BEGIN:DAYLIGHT
TZNAME:EDT
DTSTART:20250309T020000
TZOFFSETFROM:-0500
TZOFFSETTO:-0400
RDATE:20260308T020000
END:DAYLIGHT
END:VTIMEZONE
BEGIN:VEVENT
UID:a0724493-f865-4479-88f2-f4fd61dda3f7
DTSTAMP:20260421T131144Z
DESCRIPTION:NPLS will present a Fair Housing Training program for staff.
DTSTART;TZID=America/New_York:20250901T060000
DTEND;TZID=America/New_York:20250901T060001
LOCATION:
SUMMARY:NPLS at Lehigh County Housing Authority
END:VEVENT
END:VCALENDAR
