BEGIN:VCALENDAR
VERSION:2.0
PRODID:-//www.nplspa.org//NONSGML kigkonsult.se iCalcreator 2.30.10//
CALSCALE:GREGORIAN
METHOD:PUBLISH
UID:2e577768-c6c7-4a37-afcd-6c91cc8a9070
X-WR-CALDESC:Please mark your calendar for our Senior Citizens Expo on Wedn
 esday\, September 3\, 2025\, from 10 a.m. to 1 p.m. at the Franklin Townsh
 ip Volunteer Fire Co.\, 2440 Fairyland Road in Lehighton. NPLS will provid
 e information at this event.\n\nThe Senior Citizens Expo brings exhibitors
  from local\, county and state agencies to let you know what services are 
 available to assist you. For more information\, please contact Sen. Argall
  at senatorargall.com or 570-773-0891\, or Rep. Heffley at RepHeffley.com 
 or 610-377-6363.
X-WR-RELCALID:ffe40f131bf75da467be77998679e319
X-WR-TIMEZONE:America/New_York
BEGIN:VTIMEZONE
TZID:America/New_York
BEGIN:STANDARD
TZNAME:EST
DTSTART:20241103T020000
TZOFFSETFROM:-0400
TZOFFSETTO:-0500
RDATE:20251102T020000
RDATE:20261101T020000
END:STANDARD
BEGIN:DAYLIGHT
TZNAME:EDT
DTSTART:20250309T020000
TZOFFSETFROM:-0500
TZOFFSETTO:-0400
RDATE:20260308T020000
END:DAYLIGHT
END:VTIMEZONE
BEGIN:VEVENT
UID:5eaadd88-942f-44b1-968e-1e79b5123eba
DTSTAMP:20260421T131112Z
DESCRIPTION:Please mark your calendar for our Senior Citizens Expo on Wedne
 sday\, September 3\, 2025\, from 10 a.m. to 1 p.m. at the Franklin Townshi
 p Volunteer Fire Co.\, 2440 Fairyland Road in Lehighton. NPLS will provide
  information at this event.\n\nThe Senior Citizens Expo brings exhibitors 
 from local\, county and state agencies to let you know what services are a
 vailable to assist you. For more information\, please contact Sen. Argall 
 at senatorargall.com or 570-773-0891\, or Rep. Heffley at RepHeffley.com o
 r 610-377-6363.
DTSTART;TZID=America/New_York:20250903T103000
DTEND;TZID=America/New_York:20250903T130000
LOCATION:Franklin Township Volunteer Fire Co.\, 2440 Fairyland Road\, Lehig
 hton\, PA 18235 US
SUMMARY:NPLS at Senior Citizens Expo - Lehighton
END:VEVENT
END:VCALENDAR
