BEGIN:VCALENDAR
VERSION:2.0
PRODID:-//www.nplspa.org//NONSGML kigkonsult.se iCalcreator 2.30.10//
CALSCALE:GREGORIAN
METHOD:PUBLISH
UID:c3179162-c123-42a4-bffc-8d1ae5ce2690
X-WR-CALDESC:NPLS Expungement Clinic at FCFP
X-WR-RELCALID:049ee6812a04d2fd9a080c536459cd79
X-WR-TIMEZONE:America/New_York
BEGIN:VTIMEZONE
TZID:America/New_York
BEGIN:STANDARD
TZNAME:EST
DTSTART:20241103T020000
TZOFFSETFROM:-0400
TZOFFSETTO:-0500
RDATE:20251102T020000
RDATE:20261101T020000
END:STANDARD
BEGIN:DAYLIGHT
TZNAME:EDT
DTSTART:20250309T020000
TZOFFSETFROM:-0500
TZOFFSETTO:-0400
RDATE:20260308T020000
END:DAYLIGHT
END:VTIMEZONE
BEGIN:VEVENT
UID:8a5a395a-5340-48a5-8ac8-48969580a1e5
DTSTAMP:20260421T130521Z
DESCRIPTION:NPLS Expungement Clinic at FCFP
DTSTART;TZID=America/New_York:20250905T060000
DTEND;TZID=America/New_York:20250905T060001
LOCATION:
SUMMARY:NPLS at FCFP Williamsport - Expungement Clinic
END:VEVENT
END:VCALENDAR
