BEGIN:VCALENDAR
VERSION:2.0
PRODID:-//www.nplspa.org//NONSGML kigkonsult.se iCalcreator 2.30.10//
CALSCALE:GREGORIAN
METHOD:PUBLISH
UID:42f56203-0973-46f9-984c-52d0749d0de5
X-WR-CALDESC:Event Description\nIs your criminal record preventing you from
  obtaining employment? Find out if you are eligible to expunge your crimin
 al record or have it sealed or clean slated under Pennsylvania law by atte
 nding.\n\nSpecial Instructions\nThis free workshop is being offered by Nor
 th Penn Legal Services in our classroom at the CareerLink® office at 329 P
 ine ST\, Williamsport\, PA. Participants are expected to have a nominal sk
 ill at working on a windows computer\n\nRegistration Cut Off Date\n9/10/20
 25
X-WR-RELCALID:c8763cee9ac0de9f579c7d22c171a0c6
X-WR-TIMEZONE:America/New_York
BEGIN:VTIMEZONE
TZID:America/New_York
BEGIN:STANDARD
TZNAME:EST
DTSTART:20241103T020000
TZOFFSETFROM:-0400
TZOFFSETTO:-0500
RDATE:20251102T020000
RDATE:20261101T020000
END:STANDARD
BEGIN:DAYLIGHT
TZNAME:EDT
DTSTART:20250309T020000
TZOFFSETFROM:-0500
TZOFFSETTO:-0400
RDATE:20260308T020000
END:DAYLIGHT
END:VTIMEZONE
BEGIN:VEVENT
UID:e46de1e7-71cb-401d-be85-dc24d831057c
DTSTAMP:20260421T125559Z
DESCRIPTION:Event Description\nIs your criminal record preventing you from 
 obtaining employment? Find out if you are eligible to expunge your crimina
 l record or have it sealed or clean slated under Pennsylvania law by atten
 ding.\n\nSpecial Instructions\nThis free workshop is being offered by Nort
 h Penn Legal Services in our classroom at the CareerLink® office at 329 Pi
 ne ST\, Williamsport\, PA. Participants are expected to have a nominal ski
 ll at working on a windows computer\n\nRegistration Cut Off Date\n9/10/202
 5
DTSTART;TZID=America/New_York:20250910T100000
DTEND;TZID=America/New_York:20250910T110000
LOCATION:PA Careerlink Lycoming County\, 329 Pine St.\, Williamsport\, PA 1
 7701 US
SUMMARY:NPLS at CareerLink Williamsport - Expungement and Clean Slate
END:VEVENT
END:VCALENDAR
