BEGIN:VCALENDAR
VERSION:2.0
PRODID:-//www.nplspa.org//NONSGML kigkonsult.se iCalcreator 2.30.10//
CALSCALE:GREGORIAN
METHOD:PUBLISH
UID:9406e560-9dfa-4433-b5a5-38e7953db909
X-WR-CALDESC:Free Criminal Record Expungement Clinic provided by NPLS and t
 he Juvenile Uplifting Mentoring Program (JUMP).
X-WR-RELCALID:905d10cf1d288bbf83fdcc99055cf270
X-WR-TIMEZONE:America/New_York
BEGIN:VTIMEZONE
TZID:America/New_York
BEGIN:STANDARD
TZNAME:EST
DTSTART:20241103T020000
TZOFFSETFROM:-0400
TZOFFSETTO:-0500
RDATE:20251102T020000
RDATE:20261101T020000
END:STANDARD
BEGIN:DAYLIGHT
TZNAME:EDT
DTSTART:20250309T020000
TZOFFSETFROM:-0500
TZOFFSETTO:-0400
RDATE:20260308T020000
RDATE:20270314T020000
END:DAYLIGHT
END:VTIMEZONE
BEGIN:VEVENT
UID:44006c9f-1c3e-41ba-a484-70f5b33a38e4
DTSTAMP:20260421T130139Z
DESCRIPTION:Free Criminal Record Expungement Clinic provided by NPLS and th
 e Juvenile Uplifting Mentoring Program (JUMP).
DTSTART;TZID=America/New_York:20250912T180000
DTEND;TZID=America/New_York:20250912T200000
LOCATION:201 West 4th Street\, Williamsport\, PA 17701 US
SUMMARY:NPLS Free Expungement Clinic - Williamsport
END:VEVENT
END:VCALENDAR
