BEGIN:VCALENDAR
VERSION:2.0
PRODID:-//www.nplspa.org//NONSGML kigkonsult.se iCalcreator 2.30.10//
CALSCALE:GREGORIAN
METHOD:PUBLISH
UID:599a2a10-6450-4127-8002-c3afb33fb962
X-WR-CALDESC:NPLS will have a table at the Community Resource Fair at Luzer
 ne County Community College 10am-1pm in the LCCC Gymnasium.
X-WR-RELCALID:dc7f6105e528e3173b081f073532abad
X-WR-TIMEZONE:America/New_York
BEGIN:VTIMEZONE
TZID:America/New_York
BEGIN:STANDARD
TZNAME:EST
DTSTART:20241103T020000
TZOFFSETFROM:-0400
TZOFFSETTO:-0500
RDATE:20251102T020000
RDATE:20261101T020000
END:STANDARD
BEGIN:DAYLIGHT
TZNAME:EDT
DTSTART:20250309T020000
TZOFFSETFROM:-0500
TZOFFSETTO:-0400
RDATE:20260308T020000
RDATE:20270314T020000
END:DAYLIGHT
END:VTIMEZONE
BEGIN:VEVENT
UID:c08daa59-0c83-4785-8499-8c396846b0a4
DTSTAMP:20260421T130000Z
DESCRIPTION:NPLS will have a table at the Community Resource Fair at Luzern
 e County Community College 10am-1pm in the LCCC Gymnasium.
DTSTART;TZID=America/New_York:20250922T100000
DTEND;TZID=America/New_York:20250922T130000
LOCATION:Luzerne County Community College\, 521 Trailblazer Dr.\, Nanticoke
 \, PA 18634 US
SUMMARY:NPLS at Community Resource Fair - Luzerne County Community College
END:VEVENT
END:VCALENDAR
