BEGIN:VCALENDAR
VERSION:2.0
PRODID:-//www.nplspa.org//NONSGML kigkonsult.se iCalcreator 2.30.10//
CALSCALE:GREGORIAN
METHOD:PUBLISH
UID:c976aa3e-537b-406f-83df-5bdbabcc4928
X-WR-CALDESC:NPLS providing general information to Columbia Montour CAO sta
 ff.
X-WR-RELCALID:6ff42181a57defeaee9f980d778d5465
X-WR-TIMEZONE:America/New_York
BEGIN:VTIMEZONE
TZID:America/New_York
BEGIN:STANDARD
TZNAME:EST
DTSTART:20241103T020000
TZOFFSETFROM:-0400
TZOFFSETTO:-0500
RDATE:20251102T020000
RDATE:20261101T020000
END:STANDARD
BEGIN:DAYLIGHT
TZNAME:EDT
DTSTART:20250309T020000
TZOFFSETFROM:-0500
TZOFFSETTO:-0400
RDATE:20260308T020000
RDATE:20270314T020000
END:DAYLIGHT
END:VTIMEZONE
BEGIN:VEVENT
UID:974cdef7-3fa7-4fc4-b464-cd92f9c31d9e
DTSTAMP:20260421T130445Z
DESCRIPTION:NPLS providing general information to Columbia Montour CAO staf
 f.
DTSTART;TZID=America/New_York:20250923T060000
DTEND;TZID=America/New_York:20250923T060001
LOCATION:
SUMMARY:NPLS at Columbia Montour CAO
END:VEVENT
END:VCALENDAR
