BEGIN:VCALENDAR
VERSION:2.0
PRODID:-//www.nplspa.org//NONSGML kigkonsult.se iCalcreator 2.30.10//
CALSCALE:GREGORIAN
METHOD:PUBLISH
UID:5dde192e-76b3-4cf5-a738-fe2dd95c8610
X-WR-CALDESC:NPLS presenting about Clean Slate.
X-WR-RELCALID:2afaf30cdf1abf3bcbf826bbf16ff15d
X-WR-TIMEZONE:America/New_York
BEGIN:VTIMEZONE
TZID:America/New_York
BEGIN:STANDARD
TZNAME:EST
DTSTART:20241103T020000
TZOFFSETFROM:-0400
TZOFFSETTO:-0500
RDATE:20251102T020000
RDATE:20261101T020000
END:STANDARD
BEGIN:DAYLIGHT
TZNAME:EDT
DTSTART:20250309T020000
TZOFFSETFROM:-0500
TZOFFSETTO:-0400
RDATE:20260308T020000
RDATE:20270314T020000
END:DAYLIGHT
END:VTIMEZONE
BEGIN:VEVENT
UID:c0e86845-9560-4dd2-9518-d4bafe7b5655
DTSTAMP:20260421T130643Z
DESCRIPTION:NPLS presenting about Clean Slate.
DTSTART;TZID=America/New_York:20250929T060000
DTEND;TZID=America/New_York:20250929T060001
LOCATION:
SUMMARY:NPLS at Salvation Army Allentown PA
END:VEVENT
END:VCALENDAR
