BEGIN:VCALENDAR
VERSION:2.0
PRODID:-//www.nplspa.org//NONSGML kigkonsult.se iCalcreator 2.30.10//
CALSCALE:GREGORIAN
METHOD:PUBLISH
UID:67f45cf1-6403-4656-84b8-64dd70077298
X-WR-CALDESC:NPLS will present information at the Senior Expo Sponsored by 
 State Rep. Alec Ryncavage.\n
X-WR-RELCALID:4e03926c70ee2402b891911aa8aa5af9
X-WR-TIMEZONE:America/New_York
BEGIN:VTIMEZONE
TZID:America/New_York
BEGIN:STANDARD
TZNAME:EST
DTSTART:20241103T020000
TZOFFSETFROM:-0400
TZOFFSETTO:-0500
RDATE:20251102T020000
RDATE:20261101T020000
END:STANDARD
BEGIN:DAYLIGHT
TZNAME:EDT
DTSTART:20250309T020000
TZOFFSETFROM:-0500
TZOFFSETTO:-0400
RDATE:20260308T020000
RDATE:20270314T020000
END:DAYLIGHT
END:VTIMEZONE
BEGIN:VEVENT
UID:55530eb9-6934-46a1-b792-afcf8c948063
DTSTAMP:20260421T113439Z
DESCRIPTION:NPLS will present information at the Senior Expo Sponsored by S
 tate Rep. Alec Ryncavage.\n
DTSTART;TZID=America/New_York:20251002T100000
DTEND;TZID=America/New_York:20251002T130000
LOCATION:
SUMMARY:NPLS at Senior Expo - Luzerne County Community College\, Nanticoke\
 , PA
END:VEVENT
END:VCALENDAR
