BEGIN:VCALENDAR
VERSION:2.0
PRODID:-//www.nplspa.org//NONSGML kigkonsult.se iCalcreator 2.30.10//
CALSCALE:GREGORIAN
METHOD:PUBLISH
UID:6d809ebf-1fca-4037-9573-8977c7a5922c
X-WR-CALDESC:NPLS presentation for Salvation Army Life Skills.
X-WR-RELCALID:0f8f45463c688f0461968fc435d429b5
X-WR-TIMEZONE:America/New_York
BEGIN:VTIMEZONE
TZID:America/New_York
BEGIN:STANDARD
TZNAME:EST
DTSTART:20241103T020000
TZOFFSETFROM:-0400
TZOFFSETTO:-0500
RDATE:20251102T020000
RDATE:20261101T020000
END:STANDARD
BEGIN:DAYLIGHT
TZNAME:EDT
DTSTART:20250309T020000
TZOFFSETFROM:-0500
TZOFFSETTO:-0400
RDATE:20260308T020000
RDATE:20270314T020000
END:DAYLIGHT
END:VTIMEZONE
BEGIN:VEVENT
UID:41571112-a556-4aff-860c-574bee926997
DTSTAMP:20260421T113640Z
DESCRIPTION:NPLS presentation for Salvation Army Life Skills.
DTSTART;TZID=America/New_York:20251007T060000
DTEND;TZID=America/New_York:20251007T060001
LOCATION:
SUMMARY:NPLS at Salvation Army Allentown PA
END:VEVENT
END:VCALENDAR
