BEGIN:VCALENDAR
VERSION:2.0
PRODID:-//www.nplspa.org//NONSGML kigkonsult.se iCalcreator 2.30.10//
CALSCALE:GREGORIAN
METHOD:PUBLISH
UID:27354823-902e-4801-8add-fcfc68ed64f0
X-WR-CALDESC:NPLS will present public benefits and general information to s
 taff.
X-WR-RELCALID:c584d44b05d2a7228e3d376a2653447f
X-WR-TIMEZONE:America/New_York
BEGIN:VTIMEZONE
TZID:America/New_York
BEGIN:STANDARD
TZNAME:EST
DTSTART:20241103T020000
TZOFFSETFROM:-0400
TZOFFSETTO:-0500
RDATE:20251102T020000
RDATE:20261101T020000
END:STANDARD
BEGIN:DAYLIGHT
TZNAME:EDT
DTSTART:20250309T020000
TZOFFSETFROM:-0500
TZOFFSETTO:-0400
RDATE:20260308T020000
RDATE:20270314T020000
END:DAYLIGHT
END:VTIMEZONE
BEGIN:VEVENT
UID:fdc35617-3b5c-433e-814d-bb3bde1b9a1c
DTSTAMP:20260421T113711Z
DESCRIPTION:NPLS will present public benefits and general information to st
 aff.
DTSTART;TZID=America/New_York:20251014T060000
DTEND;TZID=America/New_York:20251014T060001
LOCATION:
SUMMARY:NPLS at AmeriHealth Harrisburg
END:VEVENT
END:VCALENDAR
