BEGIN:VCALENDAR
VERSION:2.0
PRODID:-//www.nplspa.org//NONSGML kigkonsult.se iCalcreator 2.30.10//
CALSCALE:GREGORIAN
METHOD:PUBLISH
UID:55713f24-9395-440b-9ebc-a5089fda8c54
X-WR-CALDESC:This free distance-learning CLE is presented by North Penn Leg
 al Services as a part of Pro Bono Week.\n\n1 Substantive PA CLE Credit for
  attorneys who register and attend the entire online presentation.\n\nA co
 ncise review of new developments in Pennsylvania child custody law and pra
 ctice. Topics will include recent changes to substantive custody law as we
 ll as procedural rules\, and an overview of notable case law from the past
  year.  \n \nPRESENTER BIO\n \nDyan Dinstel\, Esq.\n\nDyan Dinstel is a St
 aff Attorney at North Penn Legal Services and primarily handles cases rela
 ting to child custody and protection orders. She serves as chairperson of 
 the organization’s Family Law Group and enjoys keeping abreast of developi
 ng case law. She resides in Wilkes-Barre with her fiancé and their cat\, W
 affles.
X-WR-RELCALID:7eacc8c8f6ad2ca83e21d89fd6c274e3
X-WR-TIMEZONE:America/New_York
BEGIN:VTIMEZONE
TZID:America/New_York
BEGIN:STANDARD
TZNAME:EST
DTSTART:20241103T020000
TZOFFSETFROM:-0400
TZOFFSETTO:-0500
RDATE:20251102T020000
RDATE:20261101T020000
END:STANDARD
BEGIN:DAYLIGHT
TZNAME:EDT
DTSTART:20250309T020000
TZOFFSETFROM:-0500
TZOFFSETTO:-0400
RDATE:20260308T020000
RDATE:20270314T020000
END:DAYLIGHT
END:VTIMEZONE
BEGIN:VEVENT
UID:525238f6-2b9a-4c78-96f3-89e7c401cd74
DTSTAMP:20260421T113313Z
DESCRIPTION:This free distance-learning CLE is presented by North Penn Lega
 l Services as a part of Pro Bono Week.\n\n1 Substantive PA CLE Credit for 
 attorneys who register and attend the entire online presentation.\n\nA con
 cise review of new developments in Pennsylvania child custody law and prac
 tice. Topics will include recent changes to substantive custody law as wel
 l as procedural rules\, and an overview of notable case law from the past 
 year.  \n \nPRESENTER BIO\n \nDyan Dinstel\, Esq.\n\nDyan Dinstel is a Sta
 ff Attorney at North Penn Legal Services and primarily handles cases relat
 ing to child custody and protection orders. She serves as chairperson of t
 he organization’s Family Law Group and enjoys keeping abreast of developin
 g case law. She resides in Wilkes-Barre with her fiancé and their cat\, Wa
 ffles.
DTSTART;TZID=America/New_York:20251022T120000
DTEND;TZID=America/New_York:20251022T130000
LOCATION:https://bit.ly/Custody2025Recap
SUMMARY:NPLS CLE: Child Custody 2025 Recap
END:VEVENT
END:VCALENDAR
