BEGIN:VCALENDAR
VERSION:2.0
PRODID:-//www.nplspa.org//NONSGML kigkonsult.se iCalcreator 2.30.10//
CALSCALE:GREGORIAN
METHOD:PUBLISH
UID:0c098708-bc7d-4b5f-b752-de511d81c6f1
X-WR-CALDESC:NPLS will present information about Landlord/Tenant issues and
  Mobile Home Evictions. Topics will include:\n\nPA-Manufactured Home Laws
 \n\nMHCRA Eviction Grounds\n\nEviction Procedures\nA.) Non Payment of Rent
 \nB.) Violation of Rules\nC.) Defenses to Eviction\n\nResidents Rights \n
 \nEnforcement of Mobile Home Act\n\nHearing Procedures and Appeals\n\nTena
 nts Duties and Responsibilities
X-WR-RELCALID:f27909239227bb0971a88b9decbd98ea
X-WR-TIMEZONE:America/New_York
BEGIN:VTIMEZONE
TZID:America/New_York
BEGIN:STANDARD
TZNAME:EST
DTSTART:20241103T020000
TZOFFSETFROM:-0400
TZOFFSETTO:-0500
RDATE:20251102T020000
RDATE:20261101T020000
END:STANDARD
BEGIN:DAYLIGHT
TZNAME:EDT
DTSTART:20250309T020000
TZOFFSETFROM:-0500
TZOFFSETTO:-0400
RDATE:20260308T020000
RDATE:20270314T020000
END:DAYLIGHT
END:VTIMEZONE
BEGIN:VEVENT
UID:30a6c9c3-2bab-43ac-9ef7-5b04a5881fc9
DTSTAMP:20260421T114136Z
DESCRIPTION:NPLS will present information about Landlord/Tenant issues and 
 Mobile Home Evictions. Topics will include:\n\nPA-Manufactured Home Laws\n
 \nMHCRA Eviction Grounds\n\nEviction Procedures\nA.) Non Payment of Rent\n
 B.) Violation of Rules\nC.) Defenses to Eviction\n\nResidents Rights \n\nE
 nforcement of Mobile Home Act\n\nHearing Procedures and Appeals\n\nTenants
  Duties and Responsibilities
DTSTART;TZID=America/New_York:20251030T133000
DTEND;TZID=America/New_York:20251030T150000
LOCATION:Bradford County Public Safety Center\, 29 Vankuren Drive\, Towanda
 \, PA 18848 US
SUMMARY:NPLS at Community Center Towanda - LL/T Mobile Home Evictions
END:VEVENT
END:VCALENDAR
