BEGIN:VCALENDAR
VERSION:2.0
PRODID:-//www.nplspa.org//NONSGML kigkonsult.se iCalcreator 2.30.10//
CALSCALE:GREGORIAN
METHOD:PUBLISH
UID:fba589c7-6c09-4d47-88e6-a2c95da21fac
X-WR-CALDESC:NPLS information outreach event.
X-WR-RELCALID:68190469e7351413ab0d001db56afe98
X-WR-TIMEZONE:America/New_York
BEGIN:VTIMEZONE
TZID:America/New_York
BEGIN:STANDARD
TZNAME:EST
DTSTART:20251102T020000
TZOFFSETFROM:-0400
TZOFFSETTO:-0500
RDATE:20261101T020000
END:STANDARD
BEGIN:DAYLIGHT
TZNAME:EDT
DTSTART:20250309T020000
TZOFFSETFROM:-0500
TZOFFSETTO:-0400
RDATE:20260308T020000
RDATE:20270314T020000
END:DAYLIGHT
END:VTIMEZONE
BEGIN:VEVENT
UID:ce1980f6-cacc-4b29-8fb1-1e4ce46602d8
DTSTAMP:20260419T123255Z
DESCRIPTION:NPLS information outreach event.
DTSTART;TZID=America/New_York:20251222T060000
DTEND;TZID=America/New_York:20251222T060001
LOCATION:
SUMMARY:NPLS at Salvation Army Allentown PA
END:VEVENT
END:VCALENDAR
