BEGIN:VCALENDAR
VERSION:2.0
PRODID:-//www.nplspa.org//NONSGML kigkonsult.se iCalcreator 2.30.10//
CALSCALE:GREGORIAN
METHOD:PUBLISH
UID:29d0c98f-5011-4b50-807a-256e545795f7
X-WR-CALDESC:NPLS presentation about Estate Planning\, including Powers of 
 Attorney and Last Wills and Testaments.
X-WR-RELCALID:c9ecd3c72ed91bb13ac5016e247e1800
X-WR-TIMEZONE:America/New_York
BEGIN:VTIMEZONE
TZID:America/New_York
BEGIN:STANDARD
TZNAME:EST
DTSTART:20251102T020000
TZOFFSETFROM:-0400
TZOFFSETTO:-0500
RDATE:20261101T020000
END:STANDARD
BEGIN:DAYLIGHT
TZNAME:EDT
DTSTART:20250309T020000
TZOFFSETFROM:-0500
TZOFFSETTO:-0400
RDATE:20260308T020000
RDATE:20270314T020000
END:DAYLIGHT
END:VTIMEZONE
BEGIN:VEVENT
UID:ce2a9195-9b2d-4be4-a041-d7b56166b595
DTSTAMP:20260419T134520Z
DESCRIPTION:NPLS presentation about Estate Planning\, including Powers of A
 ttorney and Last Wills and Testaments.
DTSTART;TZID=America/New_York:20260107T160000
DTEND;TZID=America/New_York:20260107T170000
LOCATION:Green Free Library\, 134 Main Street\, Wellsboro\, PA 16901 US
SUMMARY:NPLS at Green Free Library Wellsboro - Estate Planning
END:VEVENT
END:VCALENDAR
