BEGIN:VCALENDAR
VERSION:2.0
PRODID:-//www.nplspa.org//NONSGML kigkonsult.se iCalcreator 2.30.10//
CALSCALE:GREGORIAN
METHOD:PUBLISH
UID:944902b5-c665-4f33-88af-50a4e5102117
X-WR-CALDESC:Demystifying mortgage foreclosures for the non-foreclosure-pra
 cticing attorney.\n\nThis presentation provides a 1-hour Substantive CLE f
 or PA attorneys.
X-WR-RELCALID:8cc03b122055f2cb041d72a2cadb4bc4
X-WR-TIMEZONE:America/New_York
BEGIN:VTIMEZONE
TZID:America/New_York
BEGIN:STANDARD
TZNAME:EST
DTSTART:20251102T020000
TZOFFSETFROM:-0400
TZOFFSETTO:-0500
RDATE:20261101T020000
END:STANDARD
BEGIN:DAYLIGHT
TZNAME:EDT
DTSTART:20260308T020000
TZOFFSETFROM:-0500
TZOFFSETTO:-0400
RDATE:20270314T020000
END:DAYLIGHT
END:VTIMEZONE
BEGIN:VEVENT
UID:d54aea12-fed9-4c9f-bf97-ec1f90f41054
DTSTAMP:20260420T195000Z
DESCRIPTION:Demystifying mortgage foreclosures for the non-foreclosure-prac
 ticing attorney.\n\nThis presentation provides a 1-hour Substantive CLE fo
 r PA attorneys.
DTSTART;TZID=America/New_York:20260430T140000
DTEND;TZID=America/New_York:20260430T150000
LOCATION:Virtual Event - Registration Coming Soon
SUMMARY:Free CLE - Foreclosure Basics Without the Headache
END:VEVENT
END:VCALENDAR
